BEGIN:VCALENDAR
PRODID:http://www.kufer.de/kuferweb / DE
VERSION:2.0
METHOD:PUBLISH
CALSCALE:GREGORIAN
X-WR-TIMEZONE:Europe/Berlin
BEGIN:VTIMEZONE
TZID:Europe/Berlin
X-LIC-LOCATION:Europe/Berlin
BEGIN:DAYLIGHT
TZOFFSETFROM:+0100
TZOFFSETTO:+0200
TZNAME:CEST
DTSTART;TZID=Europe/Berlin:19700329T020000
RRULE:FREQ=YEARLY;INTERVAL=1;BYDAY=-1SU;BYMONTH=3
END:DAYLIGHT
BEGIN:STANDARD
TZOFFSETFROM:+0200
TZOFFSETTO:+0100
TZNAME:CET
DTSTART;TZID=Europe/Berlin:19701025T030000
RRULE:FREQ=YEARLY;INTERVAL=1;BYDAY=-1SU;BYMONTH=10
END:STANDARD
END:VTIMEZONE
BEGIN:VEVENT
DTSTAMP:20260421T024110
DTSTART;TZID=Europe/Berlin:20260508T160000
DTEND;TZID=Europe/Berlin:20260508T200000
UID:BH71095-20260508T160000@VHSROTENBURG
SUMMARY:Bogenschießen - Mentale Stärke und Körperbeherrschung (BH71095) 
LOCATION:Gemeenschaftshus Borchel, Borcheler Damm 80, Borcheler Damm 80, 27356 Borchel
END:VEVENT
BEGIN:VEVENT
DTSTAMP:20260421T024110
DTSTART;TZID=Europe/Berlin:20260509T100000
DTEND;TZID=Europe/Berlin:20260509T140000
UID:BH71095-20260509T100000@VHSROTENBURG
SUMMARY:Bogenschießen - Mentale Stärke und Körperbeherrschung (BH71095) 
LOCATION:Gemeenschaftshus Borchel, Borcheler Damm 80, Borcheler Damm 80, 27356 Borchel
END:VEVENT
END:VCALENDAR